BEGIN:VCALENDAR
VERSION:2.0
PRODID:-//Paneurhythmy Together - ECPv5.4.0.2//NONSGML v1.0//EN
CALSCALE:GREGORIAN
METHOD:PUBLISH
X-WR-CALNAME:Paneurhythmy Together
X-ORIGINAL-URL:https://paneurhythmytogether.eu
X-WR-CALDESC:Събития за Paneurhythmy Together
BEGIN:VTIMEZONE
TZID:Europe/Helsinki
BEGIN:DAYLIGHT
TZOFFSETFROM:+0200
TZOFFSETTO:+0300
TZNAME:EEST
DTSTART:20260329T010000
END:DAYLIGHT
BEGIN:STANDARD
TZOFFSETFROM:+0300
TZOFFSETTO:+0200
TZNAME:EET
DTSTART:20261025T010000
END:STANDARD
END:VTIMEZONE
BEGIN:VEVENT
DTSTART;TZID=Europe/Helsinki:20260425T080000
DTEND;TZID=Europe/Helsinki:20260425T093000
DTSTAMP:20260420T163250
CREATED:20210324T111141Z
LAST-MODIFIED:20260315T055412Z
UID:6027-1777104000-1777109400@paneurhythmytogether.eu
SUMMARY:Айтос
DESCRIPTION:Братска градина /след изгрев/
URL:https://paneurhythmytogether.eu/event/%d0%b0%d0%b9%d1%82%d0%be%d1%81/
END:VEVENT
BEGIN:VEVENT
DTSTART;TZID=Europe/Helsinki:20260426T080000
DTEND;TZID=Europe/Helsinki:20260426T100000
DTSTAMP:20260420T163250
CREATED:20210328T194346Z
LAST-MODIFIED:20260312T100528Z
UID:6052-1777190400-1777197600@paneurhythmytogether.eu
SUMMARY:Хасково
DESCRIPTION:Място: Полянката в парк „Кенана“\nНачало: 8:00 ч. Паневритмия\nЛокация:\n https://www.google.com/maps/place/41°56’39.6″N+25°32’27.2″E/@41.9443333\,25.5408889\,17z/data=!3m1!4b1!4m4!3m3!8m2!3d41.9443333!4d25.5408889
URL:https://paneurhythmytogether.eu/event/%d1%85%d0%b0%d1%81%d0%ba%d0%be%d0%b2%d0%be/
END:VEVENT
BEGIN:VEVENT
DTSTART;TZID=Europe/Helsinki:20260426T080000
DTEND;TZID=Europe/Helsinki:20260426T093000
DTSTAMP:20260420T163250
CREATED:20220407T052321Z
LAST-MODIFIED:20260315T055547Z
UID:6805-1777190400-1777195800@paneurhythmytogether.eu
SUMMARY:Бургас
DESCRIPTION:Морска градина /зад х-л „Парка“/
URL:https://paneurhythmytogether.eu/event/%d0%b1%d1%83%d1%80%d0%b3%d0%b0%d1%81/
ATTACH;FMTTYPE=image/png:https://paneurhythmytogether.eu/wp-content/uploads/2021/03/Solar-Spiral_Panevritmia_2021_2.png
END:VEVENT
BEGIN:VEVENT
DTSTART;TZID=Europe/Helsinki:20260501T080000
DTEND;TZID=Europe/Helsinki:20260501T093000
DTSTAMP:20260420T163250
CREATED:20230406T184055Z
LAST-MODIFIED:20260403T185449Z
UID:7239-1777622400-1777627800@paneurhythmytogether.eu
SUMMARY:Поморие
DESCRIPTION:МЯСТО: Тракийска куполна гробница\nНАЧАЛО: 8:00 часа
URL:https://paneurhythmytogether.eu/event/%d0%bf%d0%be%d0%bc%d0%be%d1%80%d0%b8%d0%b5/
ATTACH;FMTTYPE=image/png:https://paneurhythmytogether.eu/wp-content/uploads/2021/03/Solar-Spiral_Panevritmia_2021_2.png
END:VEVENT
BEGIN:VEVENT
DTSTART;TZID=Europe/Helsinki:20260502T070000
DTEND;TZID=Europe/Helsinki:20260502T083000
DTSTAMP:20260420T163250
CREATED:20210422T184421Z
LAST-MODIFIED:20260315T060033Z
UID:6291-1777705200-1777710600@paneurhythmytogether.eu
SUMMARY:Варна
DESCRIPTION:Морската градина\nНачало – 7:00 ч.\n 
URL:https://paneurhythmytogether.eu/event/%d0%b2%d0%b0%d1%80%d0%bd%d0%b0/
ATTACH;FMTTYPE=image/png:https://paneurhythmytogether.eu/wp-content/uploads/2021/03/Solar-Spiral_Panevritmia_2021_2-1.png
END:VEVENT
BEGIN:VEVENT
DTSTART;TZID=Europe/Helsinki:20260503T060000
DTEND;TZID=Europe/Helsinki:20260503T073000
DTSTAMP:20260420T163250
CREATED:20210420T182708Z
LAST-MODIFIED:20260315T060118Z
UID:6252-1777788000-1777793400@paneurhythmytogether.eu
SUMMARY:Търговище
DESCRIPTION:Място: Източен парк\nНачало: 6:00 ч.
URL:https://paneurhythmytogether.eu/event/%d1%82%d1%8a%d1%80%d0%b3%d0%be%d0%b2%d0%b8%d1%89%d0%b5/
ATTACH;FMTTYPE=image/png:https://paneurhythmytogether.eu/wp-content/uploads/2021/03/Solar-Spiral_Panevritmia_2021_2-1.png
END:VEVENT
BEGIN:VEVENT
DTSTART;TZID=Europe/Helsinki:20260506T070000
DTEND;TZID=Europe/Helsinki:20260506T083000
DTSTAMP:20260420T163250
CREATED:20210422T185520Z
LAST-MODIFIED:20260315T060307Z
UID:6308-1778050800-1778056200@paneurhythmytogether.eu
SUMMARY:Попово
DESCRIPTION:Място: Парк „Градската градина“\nНачало: 07.00 – Паневритмия\n\n 
URL:https://paneurhythmytogether.eu/event/%d0%bf%d0%be%d0%bf%d0%be%d0%b2%d0%be/
ATTACH;FMTTYPE=image/png:https://paneurhythmytogether.eu/wp-content/uploads/2021/03/Solar-Spiral_Panevritmia_2021_2-1.png
END:VEVENT
BEGIN:VEVENT
DTSTART;TZID=Europe/Helsinki:20260509T080000
DTEND;TZID=Europe/Helsinki:20260509T093000
DTSTAMP:20260420T163250
CREATED:20210510T103620Z
LAST-MODIFIED:20260316T055253Z
UID:6412-1778313600-1778319000@paneurhythmytogether.eu
SUMMARY:Разград
DESCRIPTION:НАЧАЛО: 8:00 часа\nМЯСТО: Местност „Пчелина“\, х. „Пчелина“
URL:https://paneurhythmytogether.eu/event/%d1%80%d0%b0%d0%b7%d0%b3%d1%80%d0%b0%d0%b4/
ATTACH;FMTTYPE=image/png:https://paneurhythmytogether.eu/wp-content/uploads/2021/03/Solar-Spiral_Panevritmia_2021_2-1.png
END:VEVENT
BEGIN:VEVENT
DTSTART;TZID=Europe/Helsinki:20260510T083000
DTEND;TZID=Europe/Helsinki:20260510T100000
DTSTAMP:20260420T163251
CREATED:20210420T171402Z
LAST-MODIFIED:20260316T055356Z
UID:6242-1778401800-1778407200@paneurhythmytogether.eu
SUMMARY:Силистра
DESCRIPTION:НАЧАЛО: 8:30 часа\nМЯСТО: Дунавската градина\, до разкопките
URL:https://paneurhythmytogether.eu/event/%d1%81%d0%b8%d0%bb%d0%b8%d1%81%d1%82%d1%80%d0%b0/
ATTACH;FMTTYPE=image/png:https://paneurhythmytogether.eu/wp-content/uploads/2021/03/Solar-Spiral_Panevritmia_2021_2-1.png
END:VEVENT
BEGIN:VEVENT
DTSTART;TZID=Europe/Helsinki:20260516T070000
DTEND;TZID=Europe/Helsinki:20260516T083000
DTSTAMP:20260420T163251
CREATED:20210405T092307Z
LAST-MODIFIED:20260316T055452Z
UID:6118-1778914800-1778920200@paneurhythmytogether.eu
SUMMARY:Русе
DESCRIPTION:Начало: 7:00 часа\nМясто:  Младежки парк /виж на картата/\n \n 
URL:https://paneurhythmytogether.eu/event/%d1%80%d1%83%d1%81%d0%b5/
ATTACH;FMTTYPE=image/png:https://paneurhythmytogether.eu/wp-content/uploads/2021/03/Solar-Spiral_Panevritmia_2021_2-1.png
END:VEVENT
BEGIN:VEVENT
DTSTART;TZID=Europe/Helsinki:20260517T063000
DTEND;TZID=Europe/Helsinki:20260517T080000
DTSTAMP:20260420T163251
CREATED:20210413T153122Z
LAST-MODIFIED:20260316T092539Z
UID:6154-1778999400-1779004800@paneurhythmytogether.eu
SUMMARY:Нови Пазар
DESCRIPTION:Начало: След Изгрев\nМясто: Полянката на боровата горичка над Бялата чешма
URL:https://paneurhythmytogether.eu/event/%d0%bd%d0%be%d0%b2%d0%b8-%d0%bf%d0%b0%d0%b7%d0%b0%d1%80/
ATTACH;FMTTYPE=image/png:https://paneurhythmytogether.eu/wp-content/uploads/2021/03/Solar-Spiral_Panevritmia_2021_2-1.png
END:VEVENT
BEGIN:VEVENT
DTSTART;TZID=Europe/Helsinki:20260522T063000
DTEND;TZID=Europe/Helsinki:20260522T080000
DTSTAMP:20260420T163251
CREATED:20210413T152730Z
LAST-MODIFIED:20260316T092656Z
UID:6148-1779431400-1779436800@paneurhythmytogether.eu
SUMMARY:Велики Преслав
DESCRIPTION:Място: на стадиона\, 6:30 часа
URL:https://paneurhythmytogether.eu/event/%d0%b2%d0%b5%d0%bb%d0%b8%d0%ba%d0%b8-%d0%bf%d1%80%d0%b5%d1%81%d0%bb%d0%b0%d0%b2/
ATTACH;FMTTYPE=image/png:https://paneurhythmytogether.eu/wp-content/uploads/2021/03/Solar-Spiral_Panevritmia_2021_2-1.png
END:VEVENT
BEGIN:VEVENT
DTSTART;VALUE=DATE:20260523
DTEND;VALUE=DATE:20260526
DTSTAMP:20260420T163251
CREATED:20210413T153456Z
LAST-MODIFIED:20260316T092805Z
UID:6159-1779494400-1779753599@paneurhythmytogether.eu
SUMMARY:Мадара
DESCRIPTION:Място: на Мадарското плато\, 7:30 часа
URL:https://paneurhythmytogether.eu/event/%d0%bc%d0%b0%d0%b4%d0%b0%d1%80%d0%b0/
ATTACH;FMTTYPE=image/png:https://paneurhythmytogether.eu/wp-content/uploads/2021/03/Solar-Spiral_Panevritmia_2021_2-1.png
END:VEVENT
BEGIN:VEVENT
DTSTART;TZID=Europe/Helsinki:20260526T070000
DTEND;TZID=Europe/Helsinki:20260526T083000
DTSTAMP:20260420T163251
CREATED:20210413T153906Z
LAST-MODIFIED:20260316T092913Z
UID:6165-1779778800-1779784200@paneurhythmytogether.eu
SUMMARY:Шумен
DESCRIPTION:Място: на Шуменското плато\, 7:00 ч.\n 
URL:https://paneurhythmytogether.eu/event/%d1%88%d1%83%d0%bc%d0%b5%d0%bd/
ATTACH;FMTTYPE=image/png:https://paneurhythmytogether.eu/wp-content/uploads/2021/03/Solar-Spiral_Panevritmia_2021_2-1.png
END:VEVENT
BEGIN:VEVENT
DTSTART;TZID=Europe/Helsinki:20260530T080000
DTEND;TZID=Europe/Helsinki:20260530T093000
DTSTAMP:20260420T163251
CREATED:20210505T130949Z
LAST-MODIFIED:20260316T060638Z
UID:6389-1780128000-1780133400@paneurhythmytogether.eu
SUMMARY:Видин
DESCRIPTION:Място: до крепостта „Баба Вида“.\nНачало: 8:00 часа.
URL:https://paneurhythmytogether.eu/event/%d0%b2%d0%b8%d0%b4%d0%b8%d0%bd/
END:VEVENT
BEGIN:VEVENT
DTSTART;TZID=Europe/Helsinki:20260606T080000
DTEND;TZID=Europe/Helsinki:20260606T093000
DTSTAMP:20260420T163251
CREATED:20210321T172606Z
LAST-MODIFIED:20260321T193731Z
UID:5974-1780732800-1780738200@paneurhythmytogether.eu
SUMMARY:Монтана
DESCRIPTION:Място: полянка над Монтана\nНачало: 8:00 ч.\n\n\nКоординати: Lat: 43.406198\, Lng: 23.216868 \nhttps://maps.app.goo.gl/J3pBHYM3XeBrhB8j9\nhttps://maps.google.com/maps?q=43.406198\, 23.216868+(Паневритмия в Монтана 8.6.2024)&z=15&ll=43.406198\, 23.216868 \n43.406198\, 23.216868 \n\nМоже да се стигне с лека кола.\nПарк Слънчева Градина\, близо до площадката за скейтборд. \nПрограма:\n5:40 ч. Посрещане на Изгрева с наряд и беседа на билото до паметника на Септемврийското въстание \nУпражнения. \n8:00 ч. ПАНЕВРИТМИЯ \nСлед Паневритмията споделена закуска.
URL:https://paneurhythmytogether.eu/event/%d0%bc%d0%be%d0%bd%d1%82%d0%b0%d0%bd%d0%b0/
ATTACH;FMTTYPE=image/png:https://paneurhythmytogether.eu/wp-content/uploads/2021/03/Solar-Spiral_Panevritmia_2021_2-1.png
END:VEVENT
BEGIN:VEVENT
DTSTART;TZID=Europe/Helsinki:20260607T080000
DTEND;TZID=Europe/Helsinki:20260607T093000
DTSTAMP:20260420T163251
CREATED:20210420T105314Z
LAST-MODIFIED:20260321T194322Z
UID:6217-1780819200-1780824600@paneurhythmytogether.eu
SUMMARY:Враца
DESCRIPTION:МЯСТО: Полянка над града. Локация:https://maps.app.goo.gl/6JsTNfs8CV15BxBQA;  GPS координати:43.193055\, 23.553728. \nСледва преход по планинска пътека: 15-20 мин.\n\nСреща на паркинг в края на ул. „Беласица“ (началото на Скакленски дол)\n\nПРОГРАМА:\n\n\n5:50 Посрещане на изгрева\, наряд и упражнения.\n8:00 Паневритмия\n10:00 Прочит на Завета на цветните лъчи на светлината\n10.30 Споделена закуска.\n\nТел. за контакт: 0878 502928  Галя\nдопълнителни – 0889 798690 – Пламен\,  0897 820 640  – Валя\n\n\n 
URL:https://paneurhythmytogether.eu/event/%d0%b2%d1%80%d0%b0%d1%86%d0%b0/
ATTACH;FMTTYPE=image/png:https://paneurhythmytogether.eu/wp-content/uploads/2021/03/Solar-Spiral_Panevritmia_2021_2-1.png
END:VEVENT
BEGIN:VEVENT
DTSTART;TZID=Europe/Helsinki:20260607T080000
DTEND;TZID=Europe/Helsinki:20260607T093000
DTSTAMP:20260420T163251
CREATED:20210420T183320Z
LAST-MODIFIED:20260316T184609Z
UID:6258-1780819200-1780824600@paneurhythmytogether.eu
SUMMARY:Дупница
DESCRIPTION:МЯСТО: ДРЕНСКИ РИД\nНАЧАЛО: 8:00 ч.
URL:https://paneurhythmytogether.eu/event/%d0%b4%d1%83%d0%bf%d0%bd%d0%b8%d1%86%d0%b0/
ATTACH;FMTTYPE=image/png:https://paneurhythmytogether.eu/wp-content/uploads/2021/03/Solar-Spiral_Panevritmia_2021_2-1.png
END:VEVENT
BEGIN:VEVENT
DTSTART;TZID=Europe/Helsinki:20260613T080000
DTEND;TZID=Europe/Helsinki:20260613T093000
DTSTAMP:20260420T163251
CREATED:20210418T171042Z
LAST-MODIFIED:20260316T061817Z
UID:6172-1781337600-1781343000@paneurhythmytogether.eu
SUMMARY:Перник
DESCRIPTION:Начало 8:00 часа.\nМясто:Конен стадион
URL:https://paneurhythmytogether.eu/event/%d0%bf%d0%b5%d1%80%d0%bd%d0%b8%d0%ba/
ATTACH;FMTTYPE=image/png:https://paneurhythmytogether.eu/wp-content/uploads/2021/03/Solar-Spiral_Panevritmia_2021_2-1.png
END:VEVENT
BEGIN:VEVENT
DTSTART;TZID=Europe/Helsinki:20260614T083000
DTEND;TZID=Europe/Helsinki:20260614T100000
DTSTAMP:20260420T163251
CREATED:20210407T190729Z
LAST-MODIFIED:20260316T061839Z
UID:6125-1781425800-1781431200@paneurhythmytogether.eu
SUMMARY:Разлог
DESCRIPTION:МЯСТО: На поляната за Паневритмия\nНАЧАЛО: 8:00 часа
URL:https://paneurhythmytogether.eu/event/%d1%80%d0%b0%d0%b7%d0%bb%d0%be%d0%b3/
ATTACH;FMTTYPE=image/jpeg:https://paneurhythmytogether.eu/wp-content/uploads/2021/04/Разлог-2022-int.jpg
END:VEVENT
BEGIN:VEVENT
DTSTART;TZID=Europe/Helsinki:20260619T080000
DTEND;TZID=Europe/Helsinki:20260620T093000
DTSTAMP:20260420T163251
CREATED:20210422T190627Z
LAST-MODIFIED:20260316T061943Z
UID:6321-1781856000-1781947800@paneurhythmytogether.eu
SUMMARY:София - Южен парк
DESCRIPTION:НАЧАЛО: 8:00 часа.\nМЯСТО: Южен парк\, червената беседка\n 
URL:https://paneurhythmytogether.eu/event/%d1%81%d0%be%d1%84%d0%b8%d1%8f-%d1%8e%d0%b6%d0%b5%d0%bd-%d0%bf%d0%b0%d1%80%d0%ba/
ATTACH;FMTTYPE=image/png:https://paneurhythmytogether.eu/wp-content/uploads/2021/03/Solar-Spiral_Panevritmia_2021_2-1.png
END:VEVENT
BEGIN:VEVENT
DTSTART;TZID=Europe/Helsinki:20260620T090000
DTEND;TZID=Europe/Helsinki:20260620T103000
DTSTAMP:20260420T163251
CREATED:20210418T173330Z
LAST-MODIFIED:20260316T061955Z
UID:6191-1781946000-1781951400@paneurhythmytogether.eu
SUMMARY:с. Ярлово - Природна школа "Дар Лимец"
DESCRIPTION:Природна школа „Дар Лимец“\nКак да намерите мястото в Ярлово – пишете „ДарЛимец“ в навигацията на Гугъл мапс.\nЩе има подготвен обяд за всички .\nАко някой пътува от далеч има условия да дойде предишната вечер и да нощува необходимо е само предварително обаждане\, за да потвърдим\, че все още има свободни места.
URL:https://paneurhythmytogether.eu/event/%d1%81-%d1%8f%d1%80%d0%bb%d0%be%d0%b2%d0%be/
ATTACH;FMTTYPE=image/jpeg:https://paneurhythmytogether.eu/wp-content/uploads/2021/04/Ярлово.jpg
END:VEVENT
BEGIN:VEVENT
DTSTART;TZID=Europe/Helsinki:20260627T070000
DTEND;TZID=Europe/Helsinki:20260627T083000
DTSTAMP:20260420T163251
CREATED:20210317T150859Z
LAST-MODIFIED:20260316T062239Z
UID:5930-1782543600-1782549000@paneurhythmytogether.eu
SUMMARY:Карлово и Сопот
DESCRIPTION:Начало: 7:30 часа.\nМясто: Бежбунар\n \n  \n 
URL:https://paneurhythmytogether.eu/event/%d0%ba%d0%b0%d1%80%d0%bb%d0%be%d0%b2%d0%be/
ATTACH;FMTTYPE=image/png:https://paneurhythmytogether.eu/wp-content/uploads/2021/03/Solar-Spiral_Panevritmia_2021_2.png
END:VEVENT
BEGIN:VEVENT
DTSTART;TZID=Europe/Helsinki:20260627T080000
DTEND;TZID=Europe/Helsinki:20260627T093000
DTSTAMP:20260420T163251
CREATED:20210418T172255Z
LAST-MODIFIED:20260316T062053Z
UID:6180-1782547200-1782552600@paneurhythmytogether.eu
SUMMARY:София - Симеоново
DESCRIPTION:Начало: 8:00 ч. –  над Симеоновски езера\n\n 
URL:https://paneurhythmytogether.eu/event/%d1%81%d0%be%d1%84%d0%b8%d1%8f-%d1%81%d0%b8%d0%bc%d0%b5%d0%be%d0%bd%d0%be%d0%b2%d0%be/
END:VEVENT
BEGIN:VEVENT
DTSTART;TZID=Europe/Helsinki:20260627T100000
DTEND;TZID=Europe/Helsinki:20260627T113000
DTSTAMP:20260420T163251
CREATED:20210321T173157Z
LAST-MODIFIED:20260409T090159Z
UID:5982-1782554400-1782559800@paneurhythmytogether.eu
SUMMARY:Габрово\, Казанлък и Стара Загора - Шипка
DESCRIPTION:Паневритмията в Габрово ще бъде част от традиционния събор на вр. Шипка\, на който всички са добре дошли!\nМЯСТО:  Шипка\nКоординати: https://goo.gl/maps/CT2MTPoVi7YRTDJG9?g_st=av \nНАЧАЛО: 10:00 часа
URL:https://paneurhythmytogether.eu/event/%d0%b3%d0%b0%d0%b1%d1%80%d0%be%d0%b2%d0%be/
ATTACH;FMTTYPE=image/png:https://paneurhythmytogether.eu/wp-content/uploads/2021/03/Solar-Spiral_Panevritmia_2021_2-1.png
END:VEVENT
BEGIN:VEVENT
DTSTART;TZID=Europe/Helsinki:20260704T070000
DTEND;TZID=Europe/Helsinki:20260704T083000
DTSTAMP:20260420T163251
CREATED:20210321T173711Z
LAST-MODIFIED:20260312T100700Z
UID:5990-1783148400-1783153800@paneurhythmytogether.eu
SUMMARY:Арбанаси
DESCRIPTION:МЯСТО: GPS координати 43.095274\, 25.678263\nНАЧАЛО: 7:00 ч.\n 
URL:https://paneurhythmytogether.eu/event/%d0%b0%d1%80%d0%b1%d0%b0%d0%bd%d0%b0%d1%81%d0%b8/
ATTACH;FMTTYPE=image/png:https://paneurhythmytogether.eu/wp-content/uploads/2021/03/Solar-Spiral_Panevritmia_2021_2-1.png
END:VEVENT
BEGIN:VEVENT
DTSTART;TZID=Europe/Helsinki:20260705T080000
DTEND;TZID=Europe/Helsinki:20260705T093000
DTSTAMP:20260420T163251
CREATED:20210321T172327Z
LAST-MODIFIED:20260324T205227Z
UID:5970-1783238400-1783243800@paneurhythmytogether.eu
SUMMARY:Плевен
DESCRIPTION:Място: Парк Кайлъка\, поляната вдясно\n(преди клиника Авис Медика)\nНачало: 7:30 ч.: 6-те упражнения\n8:00 ч. Паневритмия
URL:https://paneurhythmytogether.eu/event/%d0%bf%d0%bb%d0%b5%d0%b2%d0%b5%d0%bd/
ATTACH;FMTTYPE=image/png:https://paneurhythmytogether.eu/wp-content/uploads/2021/03/Solar-Spiral_Panevritmia_2021_2-1.png
END:VEVENT
BEGIN:VEVENT
DTSTART;TZID=Europe/Helsinki:20260705T080000
DTEND;TZID=Europe/Helsinki:20260705T170000
DTSTAMP:20260420T163251
CREATED:20220327T185630Z
LAST-MODIFIED:20260316T062351Z
UID:6721-1783238400-1783270800@paneurhythmytogether.eu
SUMMARY:Севлиево
DESCRIPTION:МЯСТО: Средновековен град Хоталич.\nНачало: 8:00 ч.\nХоталич GPS координати: 43.0575° с. ш. 25.065° и. д. \nсредновековен град-крепост на 4 км северозападно от град Севлиево
URL:https://paneurhythmytogether.eu/event/%d1%81%d0%b5%d0%b2%d0%bb%d0%b8%d0%b5%d0%b2%d0%be/
ATTACH;FMTTYPE=image/png:https://paneurhythmytogether.eu/wp-content/uploads/2021/03/Solar-Spiral_Panevritmia_2021_2-1.png
END:VEVENT
BEGIN:VEVENT
DTSTART;TZID=Europe/Helsinki:20260711T080000
DTEND;TZID=Europe/Helsinki:20260711T170000
DTSTAMP:20260420T163251
CREATED:20240318T180941Z
LAST-MODIFIED:20260312T100753Z
UID:7459-1783756800-1783789200@paneurhythmytogether.eu
SUMMARY:Луковит
DESCRIPTION:НАЧАЛО:\nМЯСТО:
URL:https://paneurhythmytogether.eu/event/%d0%bb%d1%83%d0%ba%d0%be%d0%b2%d0%b8%d1%82-%d0%b8-%d1%82%d0%b5%d1%82%d0%b5%d0%b2%d0%b5%d0%bd/
END:VEVENT
BEGIN:VEVENT
DTSTART;TZID=Europe/Helsinki:20260712T073000
DTEND;TZID=Europe/Helsinki:20260712T090000
DTSTAMP:20260420T163251
CREATED:20210317T141523Z
LAST-MODIFIED:20260312T100825Z
UID:5913-1783841400-1783846800@paneurhythmytogether.eu
SUMMARY:Троян\, парк Капинчо
DESCRIPTION: МЯСТО: Парк Капинчо\nНАЧАЛО: 7:30 часа\n  \n5:50 ч. ПОСРЕЩАНЕ НА ИЗГРЕВА\n6:00 ч. НАРЯД и БЕСЕДА\n7:30 ч. ПАНЕВРИТМИЯ\n 
URL:https://paneurhythmytogether.eu/event/%d1%82%d1%80%d0%be%d1%8f%d0%bd/
END:VEVENT
END:VCALENDAR