BEGIN:VCALENDAR
VERSION:2.0
PRODID:-//Paneurhythmy Together - ECPv5.4.0.2//NONSGML v1.0//EN
CALSCALE:GREGORIAN
METHOD:PUBLISH
X-WR-CALNAME:Paneurhythmy Together
X-ORIGINAL-URL:https://paneurhythmytogether.eu
X-WR-CALDESC:Събития за Paneurhythmy Together
BEGIN:VTIMEZONE
TZID:Europe/Helsinki
BEGIN:DAYLIGHT
TZOFFSETFROM:+0200
TZOFFSETTO:+0300
TZNAME:EEST
DTSTART:20260329T010000
END:DAYLIGHT
BEGIN:STANDARD
TZOFFSETFROM:+0300
TZOFFSETTO:+0200
TZNAME:EET
DTSTART:20261025T010000
END:STANDARD
END:VTIMEZONE
BEGIN:VEVENT
DTSTART;TZID=Europe/Helsinki:20260620T090000
DTEND;TZID=Europe/Helsinki:20260620T103000
DTSTAMP:20260420T175312
CREATED:20210418T173330Z
LAST-MODIFIED:20260316T061955Z
UID:6191-1781946000-1781951400@paneurhythmytogether.eu
SUMMARY:с. Ярлово - Природна школа "Дар Лимец"
DESCRIPTION:Природна школа „Дар Лимец“\nКак да намерите мястото в Ярлово – пишете „ДарЛимец“ в навигацията на Гугъл мапс.\nЩе има подготвен обяд за всички .\nАко някой пътува от далеч има условия да дойде предишната вечер и да нощува необходимо е само предварително обаждане\, за да потвърдим\, че все още има свободни места.
URL:https://paneurhythmytogether.eu/event/%d1%81-%d1%8f%d1%80%d0%bb%d0%be%d0%b2%d0%be/
ATTACH;FMTTYPE=image/jpeg:https://paneurhythmytogether.eu/wp-content/uploads/2021/04/Ярлово.jpg
END:VEVENT
END:VCALENDAR