BEGIN:VCALENDAR
VERSION:2.0
PRODID:-//Paneurhythmy Together - ECPv5.4.0.2//NONSGML v1.0//EN
CALSCALE:GREGORIAN
METHOD:PUBLISH
X-WR-CALNAME:Paneurhythmy Together
X-ORIGINAL-URL:https://paneurhythmytogether.eu
X-WR-CALDESC:Събития за Paneurhythmy Together
BEGIN:VTIMEZONE
TZID:Europe/Helsinki
BEGIN:DAYLIGHT
TZOFFSETFROM:+0200
TZOFFSETTO:+0300
TZNAME:EEST
DTSTART:20250330T010000
END:DAYLIGHT
BEGIN:STANDARD
TZOFFSETFROM:+0300
TZOFFSETTO:+0200
TZNAME:EET
DTSTART:20251026T010000
END:STANDARD
END:VTIMEZONE
BEGIN:VEVENT
DTSTART;TZID=Europe/Helsinki:20250413T080000
DTEND;TZID=Europe/Helsinki:20250413T093000
DTSTAMP:20260420T221413
CREATED:20210317T213208Z
LAST-MODIFIED:20250327T101454Z
UID:5944-1744531200-1744536600@paneurhythmytogether.eu
SUMMARY:Стамболийски
DESCRIPTION:
URL:https://paneurhythmytogether.eu/event/%d1%81%d1%82%d0%b0%d0%bc%d0%b1%d0%be%d0%bb%d0%b8%d0%b9%d1%81%d0%ba%d0%b8/
ATTACH;FMTTYPE=image/png:https://paneurhythmytogether.eu/wp-content/uploads/2021/03/Solar-Spiral_Panevritmia_2021_2-1.png
END:VEVENT
END:VCALENDAR