BEGIN:VCALENDAR
VERSION:2.0
PRODID:-//Paneurhythmy Together - ECPv5.4.0.2//NONSGML v1.0//EN
CALSCALE:GREGORIAN
METHOD:PUBLISH
X-WR-CALNAME:Paneurhythmy Together
X-ORIGINAL-URL:https://paneurhythmytogether.eu
X-WR-CALDESC:Събития за Paneurhythmy Together
BEGIN:VTIMEZONE
TZID:Europe/Helsinki
BEGIN:DAYLIGHT
TZOFFSETFROM:+0200
TZOFFSETTO:+0300
TZNAME:EEST
DTSTART:20260329T010000
END:DAYLIGHT
BEGIN:STANDARD
TZOFFSETFROM:+0300
TZOFFSETTO:+0200
TZNAME:EET
DTSTART:20261025T010000
END:STANDARD
END:VTIMEZONE
BEGIN:VEVENT
DTSTART;TZID=Europe/Helsinki:20260411T080000
DTEND;TZID=Europe/Helsinki:20260411T093000
DTSTAMP:20260420T175124
CREATED:20210402T204956Z
LAST-MODIFIED:20260315T054813Z
UID:6101-1775894400-1775899800@paneurhythmytogether.eu
SUMMARY:Смолян
DESCRIPTION:МЯСТО: ул. „Полковник Дичо Петров“ 7\, 4700 ж.к. Нов център\, до Регионална библиотека „Никола Вранчев“\nНАЧАЛО: 8 часа
URL:https://paneurhythmytogether.eu/event/%d1%81%d0%bc%d0%be%d0%bb%d1%8f%d0%bd/
ATTACH;FMTTYPE=image/png:https://paneurhythmytogether.eu/wp-content/uploads/2021/03/Solar-Spiral_Panevritmia_2021_2-1.png
END:VEVENT
END:VCALENDAR