BEGIN:VCALENDAR
VERSION:2.0
PRODID:-//Paneurhythmy Together - ECPv5.4.0.2//NONSGML v1.0//EN
CALSCALE:GREGORIAN
METHOD:PUBLISH
X-WR-CALNAME:Paneurhythmy Together
X-ORIGINAL-URL:https://paneurhythmytogether.eu
X-WR-CALDESC:Събития за Paneurhythmy Together
BEGIN:VTIMEZONE
TZID:Europe/Helsinki
BEGIN:DAYLIGHT
TZOFFSETFROM:+0200
TZOFFSETTO:+0300
TZNAME:EEST
DTSTART:20190331T010000
END:DAYLIGHT
BEGIN:STANDARD
TZOFFSETFROM:+0300
TZOFFSETTO:+0200
TZNAME:EET
DTSTART:20191027T010000
END:STANDARD
END:VTIMEZONE
BEGIN:VEVENT
DTSTART;TZID=Europe/Helsinki:20190323T110000
DTEND;TZID=Europe/Helsinki:20190323T120000
DTSTAMP:20260421T051055
CREATED:20190321T164109Z
LAST-MODIFIED:20190413T194328Z
UID:1295-1553338800-1553342400@paneurhythmytogether.eu
SUMMARY:Представяне на Паневритмията - за да сме здрави
DESCRIPTION:Паневритмията е уникална българска практика\, която съчетава няколко фактора\, с доказано благотворно въздействие върху цялостното здраве на човека : физическо и психическо. Съчетанието на изящни ритмични движения на фона на музика сред природата\, красотата на образите в текста\, създават позитивна душвна нагласа и едновременно с това имат благотворен ефект върху физиологичните процеси в организма. \nЩе имате възможността да чуете изпълнения на пиано\, цигулка и флейта\, демонстрация на упражнения от Паневритмията\, архивни кадри от миналия век и презентация на д-р Светла Балтова за здравословните аспекти и научни изследвания във връзка с Паневритмията.
URL:https://paneurhythmytogether.eu/event/%d0%bf%d1%80%d0%b5%d0%b4%d1%81%d1%82%d0%b0%d0%b2%d1%8f%d0%bd%d0%b5-%d0%bd%d0%b0-%d0%bf%d0%b0%d0%bd%d0%b5%d0%b2%d1%80%d0%b8%d1%82%d0%bc%d0%b8%d1%8f%d1%82%d0%b0/
LOCATION:Пловдивски културен институт\, ул. Иван Перпелиев 5\, Пловдив\, България
END:VEVENT
END:VCALENDAR