BEGIN:VCALENDAR
VERSION:2.0
PRODID:-//Paneurhythmy Together - ECPv5.4.0.2//NONSGML v1.0//EN
CALSCALE:GREGORIAN
METHOD:PUBLISH
X-WR-CALNAME:Paneurhythmy Together
X-ORIGINAL-URL:https://paneurhythmytogether.eu
X-WR-CALDESC:Събития за Paneurhythmy Together
BEGIN:VTIMEZONE
TZID:Europe/Helsinki
BEGIN:DAYLIGHT
TZOFFSETFROM:+0200
TZOFFSETTO:+0300
TZNAME:EEST
DTSTART:20190331T010000
END:DAYLIGHT
BEGIN:STANDARD
TZOFFSETFROM:+0300
TZOFFSETTO:+0200
TZNAME:EET
DTSTART:20191027T010000
END:STANDARD
END:VTIMEZONE
BEGIN:VEVENT
DTSTART;TZID=Europe/Helsinki:20190608T163000
DTEND;TZID=Europe/Helsinki:20190608T180000
DTSTAMP:20260421T020611
CREATED:20181031T114542Z
LAST-MODIFIED:20190513T074739Z
UID:639-1560011400-1560016800@paneurhythmytogether.eu
SUMMARY:Песните на Паневритмията
DESCRIPTION:Целта е арт-терапевтична. По-обстойно запознаване с текстовете и музиката в Паневритмията. Работа с ритъм и звук. Практики за тониране на гласа и осъзнаване възможностите на гласа. Медитативни техники със звук и визуализация. Предаване на форма на музикалното преживяване в рисунка. \nРаботилниците ще се проведат на 06.04.2019\, 04.05.2019\, 08.06.2019\, 14.07.2019 и на 05.10.2019 от 16:30 часа. \nВодещ: Мария Видева-Стоилова. \n 
URL:https://paneurhythmytogether.eu/event/%d0%bf%d0%b5%d1%81%d0%bd%d0%b8%d1%82%d0%b5-%d0%bd%d0%b0-%d0%bf%d0%b0%d0%bd%d0%b5%d0%b2%d1%80%d0%b8%d1%82%d0%bc%d0%b8%d1%8f%d1%82%d0%b0/
LOCATION:Зала “Сдружение Видя Проект”\, Пловдив\, България
END:VEVENT
END:VCALENDAR