BEGIN:VCALENDAR
VERSION:2.0
PRODID:-//Paneurhythmy Together - ECPv5.4.0.2//NONSGML v1.0//EN
CALSCALE:GREGORIAN
METHOD:PUBLISH
X-WR-CALNAME:Paneurhythmy Together
X-ORIGINAL-URL:https://paneurhythmytogether.eu
X-WR-CALDESC:Събития за Paneurhythmy Together
BEGIN:VTIMEZONE
TZID:Europe/Helsinki
BEGIN:DAYLIGHT
TZOFFSETFROM:+0200
TZOFFSETTO:+0300
TZNAME:EEST
DTSTART:20250330T010000
END:DAYLIGHT
BEGIN:STANDARD
TZOFFSETFROM:+0300
TZOFFSETTO:+0200
TZNAME:EET
DTSTART:20251026T010000
END:STANDARD
END:VTIMEZONE
BEGIN:VEVENT
DTSTART;TZID=Europe/Helsinki:20250621T080000
DTEND;TZID=Europe/Helsinki:20250621T093000
DTSTAMP:20260420T192518
CREATED:20210408T201552Z
LAST-MODIFIED:20250415T211402Z
UID:6136-1750492800-1750498200@paneurhythmytogether.eu
SUMMARY:Панагюрище
DESCRIPTION:Начало: 8.00 часа\nПоляната\,на която играем Паневритмия се намира на хълма на свободата „Спасовден“\, над зала Арена Асарел\,ул“30 Април“.\nВ програмата предвиждаме туристически преход до скално светилище „Белотруп“.\nhttps://maps.app.goo.gl/rt6piyV3snJmuUGG7
URL:https://paneurhythmytogether.eu/event/%d0%bf%d0%b0%d0%bd%d0%b0%d0%b3%d1%8e%d1%80%d0%b8%d1%89%d0%b5/
ATTACH;FMTTYPE=image/png:https://paneurhythmytogether.eu/wp-content/uploads/2021/03/Solar-Spiral_Panevritmia_2021_2-1.png
END:VEVENT
END:VCALENDAR