BEGIN:VCALENDAR
VERSION:2.0
PRODID:-//Paneurhythmy Together - ECPv5.4.0.2//NONSGML v1.0//EN
CALSCALE:GREGORIAN
METHOD:PUBLISH
X-WR-CALNAME:Paneurhythmy Together
X-ORIGINAL-URL:https://paneurhythmytogether.eu
X-WR-CALDESC:Събития за Paneurhythmy Together
BEGIN:VTIMEZONE
TZID:Europe/Helsinki
BEGIN:DAYLIGHT
TZOFFSETFROM:+0200
TZOFFSETTO:+0300
TZNAME:EEST
DTSTART:20260329T010000
END:DAYLIGHT
BEGIN:STANDARD
TZOFFSETFROM:+0300
TZOFFSETTO:+0200
TZNAME:EET
DTSTART:20261025T010000
END:STANDARD
END:VTIMEZONE
BEGIN:VEVENT
DTSTART;TZID=Europe/Helsinki:20260415T100000
DTEND;TZID=Europe/Helsinki:20260415T233000
DTSTAMP:20260420T174707
CREATED:20260414T075524Z
LAST-MODIFIED:20260415T122544Z
UID:7756-1776247200-1776295800@paneurhythmytogether.eu
SUMMARY:Кърджали
DESCRIPTION:НАЧАЛО: 10 часа\nМЯСТО: парк „Простор“
URL:https://paneurhythmytogether.eu/event/%d0%ba%d1%8a%d1%80%d0%b4%d0%b6%d0%b0%d0%bb%d0%b8/
END:VEVENT
END:VCALENDAR