BEGIN:VCALENDAR
VERSION:2.0
PRODID:-//Paneurhythmy Together - ECPv5.4.0.2//NONSGML v1.0//EN
CALSCALE:GREGORIAN
METHOD:PUBLISH
X-WR-CALNAME:Paneurhythmy Together
X-ORIGINAL-URL:https://paneurhythmytogether.eu
X-WR-CALDESC:Събития за Paneurhythmy Together
BEGIN:VTIMEZONE
TZID:Europe/Helsinki
BEGIN:DAYLIGHT
TZOFFSETFROM:+0200
TZOFFSETTO:+0300
TZNAME:EEST
DTSTART:20260329T010000
END:DAYLIGHT
BEGIN:STANDARD
TZOFFSETFROM:+0300
TZOFFSETTO:+0200
TZNAME:EET
DTSTART:20261025T010000
END:STANDARD
END:VTIMEZONE
BEGIN:VEVENT
DTSTART;TZID=Europe/Helsinki:20260627T100000
DTEND;TZID=Europe/Helsinki:20260627T113000
DTSTAMP:20260420T175809
CREATED:20210321T173157Z
LAST-MODIFIED:20260409T090159Z
UID:5982-1782554400-1782559800@paneurhythmytogether.eu
SUMMARY:Габрово\, Казанлък и Стара Загора - Шипка
DESCRIPTION:Паневритмията в Габрово ще бъде част от традиционния събор на вр. Шипка\, на който всички са добре дошли!\nМЯСТО:  Шипка\nКоординати: https://goo.gl/maps/CT2MTPoVi7YRTDJG9?g_st=av \nНАЧАЛО: 10:00 часа
URL:https://paneurhythmytogether.eu/event/%d0%b3%d0%b0%d0%b1%d1%80%d0%be%d0%b2%d0%be/
ATTACH;FMTTYPE=image/png:https://paneurhythmytogether.eu/wp-content/uploads/2021/03/Solar-Spiral_Panevritmia_2021_2-1.png
END:VEVENT
END:VCALENDAR