BEGIN:VCALENDAR
VERSION:2.0
PRODID:-//Paneurhythmy Together - ECPv5.4.0.2//NONSGML v1.0//EN
CALSCALE:GREGORIAN
METHOD:PUBLISH
X-WR-CALNAME:Paneurhythmy Together
X-ORIGINAL-URL:https://paneurhythmytogether.eu
X-WR-CALDESC:Събития за Paneurhythmy Together
BEGIN:VTIMEZONE
TZID:Europe/Helsinki
BEGIN:DAYLIGHT
TZOFFSETFROM:+0200
TZOFFSETTO:+0300
TZNAME:EEST
DTSTART:20260329T010000
END:DAYLIGHT
BEGIN:STANDARD
TZOFFSETFROM:+0300
TZOFFSETTO:+0200
TZNAME:EET
DTSTART:20261025T010000
END:STANDARD
END:VTIMEZONE
BEGIN:VEVENT
DTSTART;TZID=Europe/Helsinki:20260607T080000
DTEND;TZID=Europe/Helsinki:20260607T093000
DTSTAMP:20260420T175219
CREATED:20210420T105314Z
LAST-MODIFIED:20260321T194322Z
UID:6217-1780819200-1780824600@paneurhythmytogether.eu
SUMMARY:Враца
DESCRIPTION:МЯСТО: Полянка над града. Локация:https://maps.app.goo.gl/6JsTNfs8CV15BxBQA;  GPS координати:43.193055\, 23.553728. \nСледва преход по планинска пътека: 15-20 мин.\n\nСреща на паркинг в края на ул. „Беласица“ (началото на Скакленски дол)\n\nПРОГРАМА:\n\n\n5:50 Посрещане на изгрева\, наряд и упражнения.\n8:00 Паневритмия\n10:00 Прочит на Завета на цветните лъчи на светлината\n10.30 Споделена закуска.\n\nТел. за контакт: 0878 502928  Галя\nдопълнителни – 0889 798690 – Пламен\,  0897 820 640  – Валя\n\n\n 
URL:https://paneurhythmytogether.eu/event/%d0%b2%d1%80%d0%b0%d1%86%d0%b0/
ATTACH;FMTTYPE=image/png:https://paneurhythmytogether.eu/wp-content/uploads/2021/03/Solar-Spiral_Panevritmia_2021_2-1.png
END:VEVENT
END:VCALENDAR