BEGIN:VCALENDAR
VERSION:2.0
PRODID:-//Paneurhythmy Together - ECPv5.4.0.2//NONSGML v1.0//EN
CALSCALE:GREGORIAN
METHOD:PUBLISH
X-WR-CALNAME:Paneurhythmy Together
X-ORIGINAL-URL:https://paneurhythmytogether.eu
X-WR-CALDESC:Събития за Paneurhythmy Together
BEGIN:VTIMEZONE
TZID:Europe/Helsinki
BEGIN:DAYLIGHT
TZOFFSETFROM:+0200
TZOFFSETTO:+0300
TZNAME:EEST
DTSTART:20260329T010000
END:DAYLIGHT
BEGIN:STANDARD
TZOFFSETFROM:+0300
TZOFFSETTO:+0200
TZNAME:EET
DTSTART:20261025T010000
END:STANDARD
END:VTIMEZONE
BEGIN:VEVENT
DTSTART;TZID=Europe/Helsinki:20260426T080000
DTEND;TZID=Europe/Helsinki:20260426T093000
DTSTAMP:20260420T175820
CREATED:20220407T052321Z
LAST-MODIFIED:20260315T055547Z
UID:6805-1777190400-1777195800@paneurhythmytogether.eu
SUMMARY:Бургас
DESCRIPTION:Морска градина /зад х-л „Парка“/
URL:https://paneurhythmytogether.eu/event/%d0%b1%d1%83%d1%80%d0%b3%d0%b0%d1%81/
ATTACH;FMTTYPE=image/png:https://paneurhythmytogether.eu/wp-content/uploads/2021/03/Solar-Spiral_Panevritmia_2021_2.png
END:VEVENT
END:VCALENDAR