BEGIN:VCALENDAR
VERSION:2.0
PRODID:-//Paneurhythmy Together - ECPv5.4.0.2//NONSGML v1.0//EN
CALSCALE:GREGORIAN
METHOD:PUBLISH
X-WR-CALNAME:Paneurhythmy Together
X-ORIGINAL-URL:https://paneurhythmytogether.eu
X-WR-CALDESC:Събития за Paneurhythmy Together
BEGIN:VTIMEZONE
TZID:Europe/Helsinki
BEGIN:DAYLIGHT
TZOFFSETFROM:+0200
TZOFFSETTO:+0300
TZNAME:EEST
DTSTART:20260329T010000
END:DAYLIGHT
BEGIN:STANDARD
TZOFFSETFROM:+0300
TZOFFSETTO:+0200
TZNAME:EET
DTSTART:20261025T010000
END:STANDARD
END:VTIMEZONE
BEGIN:VEVENT
DTSTART;TZID=Europe/Helsinki:20260704T070000
DTEND;TZID=Europe/Helsinki:20260704T083000
DTSTAMP:20260420T175938
CREATED:20210321T173711Z
LAST-MODIFIED:20260312T100700Z
UID:5990-1783148400-1783153800@paneurhythmytogether.eu
SUMMARY:Арбанаси
DESCRIPTION:МЯСТО: GPS координати 43.095274\, 25.678263\nНАЧАЛО: 7:00 ч.\n 
URL:https://paneurhythmytogether.eu/event/%d0%b0%d1%80%d0%b1%d0%b0%d0%bd%d0%b0%d1%81%d0%b8/
ATTACH;FMTTYPE=image/png:https://paneurhythmytogether.eu/wp-content/uploads/2021/03/Solar-Spiral_Panevritmia_2021_2-1.png
END:VEVENT
END:VCALENDAR