BEGIN:VCALENDAR
VERSION:2.0
PRODID:-//Paneurhythmy Together - ECPv5.4.0.2//NONSGML v1.0//EN
CALSCALE:GREGORIAN
METHOD:PUBLISH
X-WR-CALNAME:Paneurhythmy Together
X-ORIGINAL-URL:https://paneurhythmytogether.eu/en/
X-WR-CALDESC:Events for Paneurhythmy Together
BEGIN:VTIMEZONE
TZID:Europe/Helsinki
BEGIN:DAYLIGHT
TZOFFSETFROM:+0200
TZOFFSETTO:+0300
TZNAME:EEST
DTSTART:20190331T010000
END:DAYLIGHT
BEGIN:STANDARD
TZOFFSETFROM:+0300
TZOFFSETTO:+0200
TZNAME:EET
DTSTART:20191027T010000
END:STANDARD
END:VTIMEZONE
BEGIN:VEVENT
DTSTART;TZID=Europe/Helsinki:20190929T110000
DTEND;TZID=Europe/Helsinki:20190929T130000
DTSTAMP:20260420T230600
CREATED:20190209T095059Z
LAST-MODIFIED:20190329T133150Z
UID:990-1569754800-1569762000@paneurhythmytogether.eu
SUMMARY:Paneurhythmy for Everyone
DESCRIPTION:Working with the influence of tone and colour; awareness of body position. The aim is to reach a deeper awareness of the body and the connection between body and mind. The knowledge\, gathered in the workshop\, is going to be transferred in daily activities of the participants. Workshops are going to take place on 31.03.2019\, 29.09.2019 and 06.10.2019. Starting time 11am. \nInstructor: Dr Svetla Baltova
URL:https://paneurhythmytogether.eu/en/event/paneurhythmy-for-everyone/
LOCATION:Plovdiv Cultural Institute\, Plovdiv Cultural Institute\, 5 Ivan Perpeliev Str.\, Plovdiv\, България
END:VEVENT
END:VCALENDAR