BEGIN:VCALENDAR
VERSION:2.0
PRODID:-//Paneurhythmy Together - ECPv5.4.0.2//NONSGML v1.0//EN
CALSCALE:GREGORIAN
METHOD:PUBLISH
X-WR-CALNAME:Paneurhythmy Together
X-ORIGINAL-URL:https://paneurhythmytogether.eu/en/
X-WR-CALDESC:Events for Paneurhythmy Together
BEGIN:VTIMEZONE
TZID:Europe/Helsinki
BEGIN:DAYLIGHT
TZOFFSETFROM:+0200
TZOFFSETTO:+0300
TZNAME:EEST
DTSTART:20190331T010000
END:DAYLIGHT
BEGIN:STANDARD
TZOFFSETFROM:+0300
TZOFFSETTO:+0200
TZNAME:EET
DTSTART:20191027T010000
END:STANDARD
END:VTIMEZONE
BEGIN:VEVENT
DTSTART;TZID=Europe/Helsinki:20190608T100000
DTEND;TZID=Europe/Helsinki:20190608T110000
DTSTAMP:20260420T230334
CREATED:20190209T094436Z
LAST-MODIFIED:20190405T064127Z
UID:983-1559988000-1559991600@paneurhythmytogether.eu
SUMMARY:Empathy and Paneurhythmy – Partnership Relations
DESCRIPTION:The aim is to know better our partner through experiencing together the music and movement. We are going to develop the ability to “hear” the person next to us\, to look the world through the eyes of the other\, to figure out his or her own rhythm. All these are going to increase the social intelligence and responsibility\, tolerance and harmony in relationships. \nInstructors: Alexander Stoychev and Snezhina Stoycheva\, playing the violin and flute
URL:https://paneurhythmytogether.eu/en/event/empathy-and-paneurhythmy/
LOCATION:Saedinenie Concert Hall\, Saedinenie Concert Hall\, Regional Museum of History 1 Saedinenie Sq.\, Plovdiv\, България
END:VEVENT
END:VCALENDAR